BEGIN:VCALENDAR
VERSION:2.0
PRODID:-//FAZ-Binningen - ECPv6.15.17.1//NONSGML v1.0//EN
CALSCALE:GREGORIAN
METHOD:PUBLISH
X-WR-CALNAME:FAZ-Binningen
X-ORIGINAL-URL:https://faz-binningen.ch
X-WR-CALDESC:Veranstaltungen für FAZ-Binningen
REFRESH-INTERVAL;VALUE=DURATION:PT1H
X-Robots-Tag:noindex
X-PUBLISHED-TTL:PT1H
BEGIN:VTIMEZONE
TZID:UTC
BEGIN:STANDARD
TZOFFSETFROM:+0000
TZOFFSETTO:+0000
TZNAME:UTC
DTSTART:20220101T000000
END:STANDARD
END:VTIMEZONE
BEGIN:VEVENT
DTSTART;TZID=UTC:20230814T083000
DTEND;TZID=UTC:20230827T113000
DTSTAMP:20260423T132943
CREATED:20220808T101755Z
LAST-MODIFIED:20230828T075238Z
UID:3113-1692001800-1693135800@faz-binningen.ch
SUMMARY:Grosseltern-Kind-Café
DESCRIPTION:Neu öffnen wir unsere Türen auch am Montag von 08.30 – 11.30 Uhr. Wir wollen damit ein Angebot schaffen\, dass allen offen steht\, jedoch sind an diesem Morgen ganz speziell alle Grosseltern eingeladen\, die in die Betreuung ihrer Enkel involviert sind. Zwischen 08.30 – 11.30 Uhr bieten wir Raum um gemeinsam mit den Kindern kreativ zu sein\, zu singen oder einfach ein Buch anzuschauen. Ihr könnt Kommen und Gehen\, wie es für euch passt. Zum Znüni steht Euch für kleines Geld unser Café-Angebot (Kaffee\, Tee\, Saft und kleine Snacks) zur Verfügung\, um euch und eure Kinder/Grosskinder zu stärken. Die Kinder dürfen spielen\, malen\, basteln oder einfach die Zeit mit euch geniessen. Während des Spiels können die Kinder sowie auch die Erwachsenen Kontakte knüpfen und sich austauschen. So können neue Freundschaften entstehen und ihr könnt gemeinsame Erfahrungen machen. \nEine Anmeldung ist nicht nötig. \n  \nDas Eltern-Kind Café ist wie gewohnt an den folgenden Tagen geöffnet: \nMontags 08.30 – 11.30 Uhr Grosseltern und Eltern\nDienstags 14.00 – 17.00 Uhr\nDonnerstags 08.30 – 11.30 Uhr(Eltern mit Kinder bis 3 Jahre) und 14.00 – 17.00 Uhr (Kreativnachmittag Infos: offener-treffpunkt.ch)\nFreitags 08.30 – 11.30 Uhr
URL:https://faz-binningen.ch/anlass/neu-ab-15-8-22-grosseltern-kind-cafe/
LOCATION:Familienzentrum Binningen\, Curt Goetz-Strasse 21\, Binningen\, 4102\, Switzerland
CATEGORIES:Offener Treffpunkt
ATTACH;FMTTYPE=image/jpeg:https://faz-binningen.ch/wp-content/uploads/2022/08/Fyler-Grosselternkurs-Version2web.jpg
ORGANIZER;CN="Verein offener Treffpunkt":MAILTO:info@offener-treffpunkt.ch
END:VEVENT
END:VCALENDAR